Workbook

Sheet CONDONACION DEUDA
C3: Months (Periodo expensas) | D3: Days (Periodo expensas) | E3: Periodo expensas | F3: Values
C4: Jan | E4: Feb | G4: Mar | I4: Apr | K4: May | M4: Jun
A7: U.F. Lote | B7: Nombre propietario | C7: Sum of Saldo Anterior | D7: Sum of Pagos Recibidos | E7: Sum of Saldo Anterior | F7: Sum of Pagos Recibidos | G7: Sum of Saldo Anterior | H7: Sum of Pagos Recibidos | I7: Sum of Saldo Anterior | J7: Sum of Pagos Recibidos | K7: Sum of Saldo Anterior | L7: Sum of Pagos Recibidos | M7: Sum of Saldo Anterior | N7: Sum of Pagos Recibidos
A8: 0050 1A-L26 | B8: IDA MABEL ZAPPALA (GABRIEL GAUNA APODER) | C8: 39934 | D8: 40000 | E8: 46239 | F8: 42650 | G8: 39805 | H8: 0 | I8: 89753 | J8: 89753 | K8: 53099 | L8: 48331 | M8: 72348 | N8: 54400
A9: 0063 1A-L34- A | B9: Emiliano VOLPE | C9: 128524 | D9: 0 | E9: 187801 | F9: 0 | G9: 253591 | H9: 0 | I9: 326587 | J9: 0 | K9: 408304 | L9: 389522 | M9: 79599 | N9: 0
A10: 0115 1B-L19 | B10: FRANCO - SUEIRO | C10: 2797309 | D10: 0 | E10: 2937888 | F10: 0 | G10: 3085187 | H10: 0 | I10: 3231665 | J10: 0 | K10: 3385663 | L10: 0 | M10: 3551498 | N10: 1589933.9
A11: 0126 1B-L30 | B11: MATIAS CORTIJO | C11: 32557 | D11: 32557 | E11: 36990 | F11: 36990 | G11: 40334 | H11: 0 | I11: 90797 | J11: 84534 | K11: 48818 | L11: 48900 | M11: 57447 | N11: 57447
A12: 0141 1B-L45 | B12: Daniel Alejandro Mesego | C12: 37403 | D12: 37423 | E12: 38797 | F12: 39800 | G12: 41273 | H12: 41300 | I12: 51351 | J12: 48000 | K12: 51075 | L12: 51100 | M12: 61037 | N12: 61100
A13: 0144 1B-L48 | B13: ROMINA RONDINONE | C13: 1413525 | D13: 0 | E13: 1505372 | F13: 0 | G13: 1603768 | H13: 0 | I13: 1701375 | J13: 0 | K13: 1806300 | L13: 0 | M13: 1922167 | N13: 1392000
A14: 0159 1E-L11 | B14: DARIO CAMPANELLA/DANIELA AIRALI | C14: 116709 | D14: 0 | E14: 168585 | F14: 0 | G14: 226815 | H14: 0 | I14: 292183 | J14: 0 | K14: 366019 | L14: 329420 | M14: 73682 | N14: 73682
A15: 0179 1F-L19 | B15: HAEDO - SUEIRO | C15: 2844984 | D15: 0 | E15: 2987628 | F15: 0 | G15: 3137051 | H15: 0 | I15: 3285641 | J15: 0 | K15: 3441821 | L15: 0 | M15: 3610147 | N15: 1898162.3
A16: 0186 1F-L26 | B16: WALTER GALLO | C16: 535192 | D16: 0 | E16: 597691 | F16: 0 | G16: 665680 | H16: 0 | I16: 739878 | J16: 184392.57 | K16: 633318 | L16: 178978.61 | M16: 539074 | N16: 0
A17: 0194 1F-L34 | B17: SERGIO ZAMBIAZZO | C17: 1319408 | D17: 0 | E17: 1410803 | F17: 0 | G17: 1508648 | H17: 0 | I17: 1605723 | J17: 0 | K17: 1709996 | L17: 0 | M17: 1824682 | N17: 1325233.5
A18: 0204 1F-L44 | B18: HELENA CROUZEL | C18: 32578 | D18: 32572 | E18: 37017 | F18: 31300 | G18: 46365 | H18: 46365 | I18: 44189 | J18: 44189 | K18: 48851 | L18: 48851 | M18: 63663 | N18: 63663
A19: 0217 1G-L13 | B19: GUSTAVO FERREIROS | C19: 40552 | D19: 40010 | E19: 47070 | F19: 47070 | G19: 51338 | H19: 0 | I19: 109053 | J19: 109053 | K19: 50782 | L19: 50782 | M19: 68143 | N19: 69500
... A39: 0606 1A-L55-4 | B39: Lucas Esteban Molina | C39: 50632 | D39: 50632 | E39: 40855 | F39: 37758 | G39: 40713 | H39: 36642 | I39: 52103 | J39: 0 | K39: 106958 | L39: 0 | M39: 169424 | N39: 112168
A40: Grand Total | C40: 18568287 | D40: 564976 | E40: 19931007 | F40: 2649129 | G40: 18062476 | H40: 1046203.3 | I40: 18477221 | J40: 1700392.5 | K40: 18750959 | L40: 3115696.6 | M40: 17145699 | N40: 10359325
T638: =GETPIVOTDATA("Sum of TOTAL",$A$3,"Months (Periodo expensas)",6)-'ANALISIS GASTOS VS COBRANZAS'!P10 -> #REF!

Sheet SALDO ANTERIOR VS PAGOS RECIBID
C3: Months (Periodo expensas) | D3: Days (Periodo expensas) | E3: Periodo expensas | F3: Values
C4: Jan | F4: Feb | I4: Mar | L4: Apr | O4: May | R4: Jun
A7: U.F. Lote | B7: Nombre propietario | C7: Sum of Saldo Anterior | D7: Sum of Pagos Recibidos | E7: Sum of SALDO DESPUES PAGO | F7: Sum of Saldo Anterior | G7: Sum of Pagos Recibidos | H7: Sum of SALDO DESPUES PAGO | I7: Sum of Saldo Anterior | J7: Sum of Pagos Recibidos | K7: Sum of SALDO DESPUES PAGO | L7: Sum of Saldo Anterior | M7: Sum of Pagos Recibidos | N7: Sum of SALDO DESPUES PAGO | O7: Sum of Saldo Anterior | P7: Sum of Pagos Recibidos | Q7: Sum of SALDO DESPUES PAGO | R7: Sum of Saldo Anterior | S7: Sum of Pagos Recibidos | T7: Sum of SALDO DESPUES PAGO
A8: 0001 1A-L1 | B8: GRACIELA PRIORI | C8: 32641 | D8: 32641 | E8: 0 | F8: 37098 | G8: 37098 | H8: 0 | I8: 40448 | J8: 40448 | K8: 0 | L8: 44281 | M8: 44281 | N8: 0 | O8: 48952 | P8: 48952 | Q8: 0 | R8: 57739 | S8: 57739 | T8: 0
A9: 0002 1A-L1B | B9: GRACIELA PRIORI | C9: 32687 | D9: 32687 | E9: 0 | F9: 37158 | G9: 37158 | H9: 0 | I9: 40512 | J9: 40512 | K9: 0 | L9: 44348 | M9: 44348 | N9: 0 | O9: 49025 | P9: 49025 | Q9: 0 | R9: 57852 | S9: 57852 | T9: 0
A10: 0003 1A-L2 | B10: MIGUEL SOSTRES | C10: 32816 | D10: 32816 | E10: 0 | F10: 37320 | G10: 37320 | H10: 0 | I10: 40684 | J10: 40684 | K10: 0 | L10: 44532 | M10: 44532 | N10: 0 | O10: 49225 | P10: 49225 | Q10: 0 | R10: 58166 | S10: 58166 | T10: 0
A11: 0004 1A-L2B | B11: TRISTAN BRIANO | C11: 30676 | D11: 30676 | E11: 0 | F11: 34594 | G11: 34594 | H11: 0 | I11: 37786 | J11: 37786 | K11: 0 | L11: 41449 | M11: 41449 | N11: 0 | O11: 45859 | P11: 45859 | Q11: 0 | R11: 52899 | S11: 52899 | T11: 0
A12: 0005 1A-L2C | B12: TRISTAN BRIANO | C12: 30706 | D12: 30706 | E12: 0 | F12: 34631 | G12: 35631 | H12: -1000 | I12: 36825 | J12: 36825 | K12: 0 | L12: 41491 | M12: 41491 | N12: 0 | O12: 45905 | P12: 45905 | Q12: 0 | R12: 52970 | S12: 52970 | T12: 0
A13: 0006 1A-L3 | B13: Esteban Marcelo CHAMS | C13: 30458 | D13: 30458 | E13: 0 | F13: 34316 | G13: 34316 | H13: 0 | I13: 37491 | J13: 38116 | K13: -625 | L13: 65666 | M13: 65666 | N13: 0 | O13: 45516 | P13: 45516 | Q13: 0 | R13: 52362 | S13: 52362 | T13: 0
A14: 0007 1A-L3B | B14: CARLOS RENE RODRIGUEZ | C14: 33485 | D14: 33485 | E14: 0 | F14: 34250 | G14: 34250 | H14: 0 | I14: 37420 | J14: 37420 | K14: 0 | L14: 41060 | M14: 41060 | N14: 0 | O14: 45433 | P14: 0 | Q14: 45433 | R14: 104877 | S14: 106588 | T14: -1711
A15: 0008 1A-L4 | B15: CLAUDIO SPERANZA | C15: 48081 | D15: 48081 | E15: 0 | F15: 70687 | G15: 70687 | H15: 0 | I15: 63487 | J15: 63487 | K15: 0 | L15: 75666 | M15: 75666 | N15: 0 | O15: 75065 | P15: 75065 | Q15: 0 | R15: 77343 | S15: 77342 | T15: 1
A16: 0009 1A-L4B | B16: RAFAEL BALTAZAR FLORES/TERESA MI—ONES | C16: 39317 | D16: 39317 | E16: 0 | F16: 43926 | G16: 43926 | H16: 0 | I16: 47321 | J16: 47321 | K16: 0 | L16: 57367 | M16: 57367 | N16: 0 | O16: 55946 | P16: 55946 | Q16: 0 | R16: 65851 | S16: 65851 | T16: 0
A17: 0010 1A-L4C | B17: GERARDO PAZ | C17: 31206 | D17: 31206 | E17: 0 | F17: 35269 | G17: 35269 | H17: 0 | I17: 38505 | J17: 39148 | K17: -643 | L17: 47618 | M17: 47618 | N17: 0 | O17: 46694 | P17: 46694 | Q17: 0 | R17: 54205 | S17: 54205 | T17: 0
A18: 0011 1A-L4D | B18: DANIEL MARGULIES | C18: 31195 | D18: 31195 | E18: 0 | F18: 35255 | G18: 35255 | H18: 0 | I18: 38489 | J18: 38489 | K18: 0 | L18: 42197 | M18: 42197 | N18: 0 | O18: 46675 | P18: 46675 | Q18: 0 | R18: 54176 | S18: 54176 | T18: 0
A19: 0012 1A-L5-2 | B19: Guadalupe Jazmin CHAMS | C19: 33082 | D19: 0 | E19: 33082 | F19: 74130 | G19: 74130 | H19: 0 | I19: 38990 | J19: 39640 | K19: -650 | L19: 46315 | M19: 46315 | N19: 0 | O19: 46664 | P19: 46664 | Q19: 0 | R19: 53465 | S19: 53465 | T19: 0
... A39: 0032 1A-L15 | B39: ALFREDO CASTIGLIA | C39: 69272 | D39: 69272 | E39: 0 | F39: 74493 | G39: 74493 | H39: 0 | I39: 78066 | J39: 78066 | K39: 0 | L39: 82139 | M39: 82139 | N39: 0 | O39: 87178 | P39: 87178 | Q39: 0 | R39: 98438 | S39: 98438 | T39: 0
A40: 0033 1A-L15B | B40: BANCO MACRO | C40: 37877 | D40: 37877 | E40: 0 | F40: 43772 | G40: 43772 | H40: 0 | K40: 0 | N40: 0 | Q40: 0 | T40: 0
B41: Ariel Arnoldo Abramovich | E41: 0 | H41: 0 | I41: 47543 | J41: 47600 | K41: -57 | L41: 57350 | M41: 57350 | N41: 0 | O41: 100422 | P41: 100500 | Q41: -78 | R41: 82700 | S41: 82700 | T41: 0
A42: 0034 1A-L16 | B42: ARIEL AKERMAN - SEBASTAN JANON | C42: 34625 | D42: 34625 | E42: 0 | F42: 39627 | G42: 39627 | H42: 0 | I42: 43137 | J42: 43137 | K42: 0 | L42: 47140 | M42: 47140 | N42: 0 | O42: 52074 | P42: 52074 | Q42: 0 | R42: 62624 | S42: 62624 | T42: 0
A43: 0035 1A-L16B | B43: Gisela CANIEVSKY | C43: 33214 | D43: 33214 | E43: 0 | F43: 37828 | G43: 37828 | H43: 0 | I43: 41224 | J43: 41224 | K43: 0 | L43: 45106 | M43: 45106 | N43: 0 | O43: 49853 | P43: 49853 | Q43: 0 | R43: 59148 | S43: 59148 | T43: 0
A44: 0036 1A-L17 | B44: RUTA CPC | C44: 85952 | D44: 0 | E44: 85952 | F44: 140281 | G44: 85952 | H44: 54329 | I44: 111556 | J44: 56367 | K44: 55189 | L44: 120130 | M44: 57227 | N44: 62903 | O44: 132727 | P44: 64941 | Q44: 67786 | R44: 154401 | S44: 0 | T44: 154401
A45: 0037 1A-L17B | B45: RUTA CPC | C45: 83403 | D45: 0 | E45: 83403 | F45: 135481 | G45: 83403 | H45: 52078 | I45: 106839 | J45: 54062 | K45: 52777 | L45: 114887 | M45: 54761 | N45: 60126 | O45: 126803 | P45: 62110 | Q45: 64693 | R45: 145848 | S45: 0 | T45: 145848
A46: 0038 1A-L18 | B46: BIAU DANIEL/CRISTALDO MABEL | C46: 33169 | D46: 33169 | E46: 0 | F46: 38020 | G46: 38020 | H46: 0 | I46: 41486 | J46: 41488 | K46: -2 | L46: 45440 | M46: 45440 | N46: 0 | O46: 50303 | P46: 50303 | Q46: 0 | R46: 60367 | S46: 60367 | T46: 0
A47: 0039 1A-L18B | B47: MIGUEL PEREIRA L´PEZ | C47: 2891455 | D47: 0 | E47: 2891455 | F47: 3033124 | G47: 0 | H47: 3033124 | I47: 3181556 | J47: 0 | K47: 3181556 | L47: 3329159 | M47: 0 | N47: 3329159 | O47: 3484333 | P47: 0 | Q47: 3484333 | R47: 3651572 | S47: 0 | T47: 3651572
A48: 0040 1A-L19 | B48: SEBASTIAN LAUSI | C48: 2567206 | D48: 0 | E48: 2567206 | F48: 2695378 | G48: 0 | H48: 2695378 | I48: 2829932 | J48: 0 | K48: 2829932 | L48: 2963730 | M48: 0 | N48: 2963730 | O48: 3104645 | P48: 0 | Q48: 3104645 | R48: 3255619 | S48: 0 | T48: 3255619
A49: 0041 1A-L19B | B49: SEBASTIAN LAUSI | C49: 3074782 | D49: 0 | E49: 3074782 | F49: 3224082 | G49: 0 | H49: 3224082 | I49: 3380361 | J49: 0 | K49: 3380361 | L49: 3535769 | M49: 0 | N49: 3535769 | O49: 3699005 | P49: 0 | Q49: 3699005 | R49: 3875441 | S49: 0 | T49: 3875441
A50: 0042 1A-L19C | B50: SEBASTIAN LAUSI | C50: 2512579 | D50: 0 | E50: 2512579 | F50: 2638484 | G50: 0 | H50: 2638484 | I50: 2770707 | J50: 0 | K50: 2770707 | L50: 2902186 | M50: 0 | N50: 2902186 | O50: 3040707 | P50: 0 | Q50: 3040707 | R50: 3188953 | S50: 0 | T50: 3188953
A51: 0043 1A-L20 | B51: Luis Enrique Landini | C51: 39379 | D51: 77379 | E51: -38000 | F51: 6008 | G51: 6109 | H51: -101 | I51: 51387 | J51: 51387 | K51: 0 | L51: 51295 | M51: 51295 | N51: 0 | O51: 56049 | P51: 56049 | Q51: 0 | R51: 65392 | S51: 65392 | T51: 0
A52: 0044 1A-L20B | B52: JAIME CHMEA | C52: 693950 | D52: 0 | E52: 693950 | F52: 767368 | G52: 0 | H52: 767368 | I52: 847537 | J52: 0 | K52: 847537 | L52: 926831 | M52: 0 | N52: 926831 | O52: 1013690 | P52: 0 | Q52: 1013690 | R52: 1112721 | S52: 0 | T52: 1112721
A53: 0045 1A-L21 | B53: PABLO GARCIA NAVARRO | C53: 41420 | D53: 41420 | E53: 0 | F53: 48718 | G53: 48718 | H53: 0 | I53: 58778 | J53: 58778 | K53: 0 | L53: 57627 | M53: 57627 | N53: 0 | O53: 63670 | P53: 63670 | Q53: 0 | R53: 89561 | S53: 89561 | T53: 0
... A66: 0058 1A-L30 | B66: AGUSTÕN GIMENEZ/FERNANDA ARCURI | C66: 31536 | D66: 31536 | E66: 0 | F66: 35893 | G66: 35893 | H66: 0 | I66: 39214 | J66: 39214 | K66: 0 | L66: 43015 | M66: 43015 | N66: 0 | O66: 52342 | P66: 52342 | Q66: 0 | R66: 63669 | S66: 63669 | T66: 0
A67: 0059 1A-L30B | B67: CAR POINT | C67: 35360 | D67: 35360 | E67: 0 | F67: 39966 | G67: 39966 | H67: 0 | I67: 45590 | J67: 45590 | K67: 0 | L67: 47764 | M67: 0 | N67: 47764 | Q67: 0 | T67: 0
B68: Martin Andres RODE | E68: 0 | H68: 0 | K68: 0 | N68: 0 | O68: 102967 | P68: 48523.88 | Q68: 54443.12 | R68: 120318 | S68: 120318 | T68: 0
A69: 0060 1A-L31 | B69: FRANCO BORDONI | C69: 39525 | D69: 39545 | E69: -20 | F69: 46283 | G69: 46283 | H69: 0 | I69: 50333 | J69: 50362 | K69: -29 | L69: 54865 | M69: 54900 | N69: -35 | O69: 60650 | P69: 60650 | Q69: 0 | R69: 76987 | S69: 77000 | T69: -13
A70: 0061 1A-L32 | B70: CARLOS ALBERTO MATUK. | C70: 39656 | D70: 39656 | E70: 0 | F70: 83378 | G70: 0 | H70: 83378 | I70: 173848 | J70: 173848 | K70: 0 | L70: 82155 | M70: 83525 | N70: -1370 | O70: 87908 | P70: 87908 | Q70: 0 | R70: 98230 | S70: 98230 | T70: 0
A71: 0062 1A-L33A | B71: CARLOS ALBERTO MATUK. | C71: 33422 | D71: 33422 | E71: 0 | F71: 38349 | G71: 0 | H71: 38349 | I71: 86204 | J71: 86204 | K71: 0 | L71: 45818 | M71: 46582 | N71: -764 | O71: 55704 | P71: 55704 | Q71: 0 | R71: 61029 | S71: 61029 | T71: 0
A72: 0063 1A-L34- A | B72: Emiliano VOLPE | C72: 128524 | D72: 0 | E72: 128524 | F72: 187801 | G72: 0 | H72: 187801 | I72: 253591 | J72: 0 | K72: 253591 | L72: 326587 | M72: 0 | N72: 326587 | O72: 408304 | P72: 389522 | Q72: 18782 | R72: 79599 | S72: 0 | T72: 79599
A73: 0064 1A-L35 | B73: ANDREW CUMMINS | C73: 35345 | D73: 35345 | E73: 0 | F73: 39487 | G73: 39487 | H73: 0 | I73: 43160 | J73: 43160 | K73: 0 | L73: 47389 | M73: 47389 | N73: 0 | O73: 52419 | P73: 52419 | Q73: 0 | R73: 63608 | S73: 63608 | T73: 0
A74: 0065 1A-L35B | B74: ANDREW CUMMINS | C74: 34883 | D74: 34883 | E74: 0 | F74: 39956 | G74: 39956 | H74: 0 | I74: 43487 | J74: 43487 | K74: 0 | L74: 47512 | M74: 47512 | N74: 0 | O74: 52480 | P74: 52480 | Q74: 0 | R74: 63260 | S74: 63260 | T74: 0
A75: 0066 1A-L36 | B75: CARINA MOLOZAJ | C75: 34671 | D75: 0 | E75: 34671 | F75: 79882 | G75: 81153 | H75: -1271 | I75: 49969 | J75: 50737 | K75: -768 | L75: 53353 | M75: 54203 | N75: -850 | O75: 58914 | P75: 58914 | Q75: 0 | R75: 62738 | S75: 63784 | T75: -1046
...

Sheet RESUMEN
C3: Months (Periodo expensas) | D3: Days (Periodo expensas) | E3: Periodo expensas | F3: Values
C4: Jan | F4: Feb | I4: Mar | L4: Apr | O4: May | R4: Jun
A7: U.F. Lote | B7: Nombre propietario | C7: Sum of Saldo Anterior | D7: Sum of Pagos Recibidos | E7: Sum of TOTAL | F7: Sum of Saldo Anterior | G7: Sum of Pagos Recibidos | H7: Sum of TOTAL | I7: Sum of Saldo Anterior | J7: Sum of Pagos Recibidos | K7: Sum of TOTAL | L7: Sum of Saldo Anterior | M7: Sum of Pagos Recibidos | N7: Sum of TOTAL | O7: Sum of Saldo Anterior | P7: Sum of Pagos Recibidos | Q7: Sum of TOTAL | R7: Sum of Saldo Anterior | S7: Sum of Pagos Recibidos | T7: Sum of TOTAL
A8: 0001 1A-L1 | B8: GRACIELA PRIORI | C8: 32641 | D8: 32641 | E8: 37098 | F8: 37098 | G8: 37098 | H8: 40448 | I8: 40448 | J8: 40448 | K8: 44281 | L8: 44281 | M8: 44281 | N8: 48952 | O8: 48952 | P8: 48952 | Q8: 57739 | R8: 57739 | S8: 57739 | T8: 89153
A9: 0002 1A-L1B | B9: GRACIELA PRIORI | C9: 32687 | D9: 32687 | E9: 37158 | F9: 37158 | G9: 37158 | H9: 40512 | I9: 40512 | J9: 40512 | K9: 44348 | L9: 44348 | M9: 44348 | N9: 49025 | O9: 49025 | P9: 49025 | Q9: 57852 | R9: 57852 | S9: 57852 | T9: 89278
A10: 0003 1A-L2 | B10: MIGUEL SOSTRES | C10: 32816 | D10: 32816 | E10: 37320 | F10: 37320 | G10: 37320 | H10: 40684 | I10: 40684 | J10: 40684 | K10: 44532 | L10: 44532 | M10: 44532 | N10: 49225 | O10: 49225 | P10: 49225 | Q10: 58166 | R10: 58166 | S10: 58166 | T10: 89624
A11: 0004 1A-L2B | B11: TRISTAN BRIANO | C11: 30676 | D11: 30676 | E11: 34594 | F11: 34594 | G11: 34594 | H11: 37786 | I11: 37786 | J11: 37786 | K11: 41449 | L11: 41449 | M11: 41449 | N11: 45859 | O11: 45859 | P11: 45859 | Q11: 52899 | R11: 52899 | S11: 52899 | T11: 83813
A12: 0005 1A-L2C | B12: TRISTAN BRIANO | C12: 30706 | D12: 30706 | E12: 34631 | F12: 34631 | G12: 35631 | H12: 36825 | I12: 36825 | J12: 36825 | K12: 41491 | L12: 41491 | M12: 41491 | N12: 45905 | O12: 45905 | P12: 45905 | Q12: 52970 | R12: 52970 | S12: 52970 | T12: 83891
A13: 0006 1A-L3 | B13: Esteban Marcelo CHAMS | C13: 30458 | D13: 30458 | E13: 34316 | F13: 34316 | G13: 34316 | H13: 37491 | I13: 37491 | J13: 38116 | K13: 65666 | L13: 65666 | M13: 65666 | N13: 45516 | O13: 45516 | P13: 45516 | Q13: 52362 | R13: 52362 | S13: 52362 | T13: 83220
A14: 0007 1A-L3B | B14: CARLOS RENE RODRIGUEZ | C14: 33485 | D14: 33485 | E14: 34250 | F14: 34250 | G14: 34250 | H14: 37420 | I14: 37420 | J14: 37420 | K14: 41060 | L14: 41060 | M14: 41060 | N14: 45433 | O14: 45433 | P14: 0 | Q14: 104877 | R14: 104877 | S14: 106588 | T14: 87999
A15: 0008 1A-L4 | B15: CLAUDIO SPERANZA | C15: 48081 | D15: 48081 | E15: 70687 | F15: 70687 | G15: 70687 | H15: 63487 | I15: 63487 | J15: 63487 | K15: 75666 | L15: 75666 | M15: 75666 | N15: 75065 | O15: 75065 | P15: 75065 | Q15: 77343 | R15: 77343 | S15: 77342 | T15: 108896
A16: 0009 1A-L4B | B16: RAFAEL BALTAZAR FLORES/TERESA MI—ONES | C16: 39317 | D16: 39317 | E16: 43926 | F16: 43926 | G16: 43926 | H16: 47321 | I16: 47321 | J16: 47321 | K16: 57367 | L16: 57367 | M16: 57367 | N16: 55946 | O16: 55946 | P16: 55946 | Q16: 65851 | R16: 65851 | S16: 65851 | T16: 89837
A17: 0010 1A-L4C | B17: GERARDO PAZ | C17: 31206 | D17: 31206 | E17: 35269 | F17: 35269 | G17: 35269 | H17: 38505 | I17: 38505 | J17: 39148 | K17: 47618 | L17: 47618 | M17: 47618 | N17: 46694 | O17: 46694 | P17: 46694 | Q17: 54205 | R17: 54205 | S17: 54205 | T17: 85254
A18: 0011 1A-L4D | B18: DANIEL MARGULIES | C18: 31195 | D18: 31195 | E18: 35255 | F18: 35255 | G18: 35255 | H18: 38489 | I18: 38489 | J18: 38489 | K18: 42197 | L18: 42197 | M18: 42197 | N18: 46675 | O18: 46675 | P18: 46675 | Q18: 54176 | R18: 54176 | S18: 54176 | T18: 85221
A19: 0012 1A-L5-2 | B19: Guadalupe Jazmin CHAMS | C19: 33082 | D19: 0 | E19: 74130 | F19: 74130 | G19: 74130 | H19: 38990 | I19: 38990 | J19: 39640 | K19: 46315 | L19: 46315 | M19: 46315 | N19: 46664 | O19: 46664 | P19: 46664 | Q19: 53465 | R19: 53465 | S19: 53465 | T19: 84310
... A39: 0032 1A-L15 | B39: ALFREDO CASTIGLIA | C39: 69272 | D39: 69272 | E39: 74493 | F39: 74493 | G39: 74493 | H39: 78066 | I39: 78066 | J39: 78066 | K39: 82139 | L39: 82139 | M39: 82139 | N39: 87178 | O39: 87178 | P39: 87178 | Q39: 98438 | R39: 98438 | S39: 98438 | T39: 136236
A40: 0033 1A-L15B | B40: BANCO MACRO | C40: 37877 | D40: 37877 | E40: 43772 | F40: 43772 | G40: 43772 | H40: 47543
B41: Ariel Arnoldo Abramovich | I41: 47543 | J41: 47600 | K41: 57350 | L41: 57350 | M41: 57350 | N41: 100422 | O41: 100422 | P41: 100500 | Q41: 82700 | R41: 82700 | S41: 82700 | T41: 103381
A42: 0034 1A-L16 | B42: ARIEL AKERMAN - SEBASTAN JANON | C42: 34625 | D42: 34625 | E42: 39627 | F42: 39627 | G42: 39627 | H42: 43137 | I42: 43137 | J42: 43137 | K42: 47140 | L42: 47140 | M42: 47140 | N42: 52074 | O42: 52074 | P42: 52074 | Q42: 62624 | R42: 62624 | S42: 62624 | T42: 94542
A43: 0035 1A-L16B | B43: Gisela CANIEVSKY | C43: 33214 | D43: 33214 | E43: 37828 | F43: 37828 | G43: 37828 | H43: 41224 | I43: 41224 | J43: 41224 | K43: 45106 | L43: 45106 | M43: 45106 | N43: 49853 | O43: 49853 | P43: 49853 | Q43: 59148 | R43: 59148 | S43: 59148 | T43: 90708
A44: 0036 1A-L17 | B44: RUTA CPC | C44: 85952 | D44: 0 | E44: 140281 | F44: 140281 | G44: 85952 | H44: 111556 | I44: 111556 | J44: 56367 | K44: 120130 | L44: 120130 | M44: 57227 | N44: 132727 | O44: 132727 | P44: 64941 | Q44: 154401 | R44: 154401 | S44: 0 | T44: 290212
A45: 0037 1A-L17B | B45: RUTA CPC | C45: 83403 | D45: 0 | E45: 135481 | F45: 135481 | G45: 83403 | H45: 106839 | I45: 106839 | J45: 54062 | K45: 114887 | L45: 114887 | M45: 54761 | N45: 126803 | O45: 126803 | P45: 62110 | Q45: 145848 | R45: 145848 | S45: 0 | T45: 274628
A46: 0038 1A-L18 | B46: BIAU DANIEL/CRISTALDO MABEL | C46: 33169 | D46: 33169 | E46: 38020 | F46: 38020 | G46: 38020 | H46: 41486 | I46: 41486 | J46: 41488 | K46: 45440 | L46: 45440 | M46: 45440 | N46: 50303 | O46: 50303 | P46: 50303 | Q46: 60367 | R46: 60367 | S46: 60367 | T46: 92146
A47: 0039 1A-L18B | B47: MIGUEL PEREIRA L´PEZ | C47: 2891455 | D47: 0 | E47: 3033124 | F47: 3033124 | G47: 0 | H47: 3181556 | I47: 3181556 | J47: 0 | K47: 3329159 | L47: 3329159 | M47: 0 | N47: 3484333 | O47: 3484333 | P47: 0 | Q47: 3651572 | R47: 3651572 | S47: 0 | T47: 4035620
A48: 0040 1A-L19 | B48: SEBASTIAN LAUSI | C48: 2567206 | D48: 0 | E48: 2695378 | F48: 2695378 | G48: 0 | H48: 2829932 | I48: 2829932 | J48: 0 | K48: 2963730 | L48: 2963730 | M48: 0 | N48: 3104645 | O48: 3104645 | P48: 0 | Q48: 3255619 | R48: 3255619 | S48: 0 | T48: 3603531
A49: 0041 1A-L19B | B49: SEBASTIAN LAUSI | C49: 3074782 | D49: 0 | E49: 3224082 | F49: 3224082 | G49: 0 | H49: 3380361 | I49: 3380361 | J49: 0 | K49: 3535769 | L49: 3535769 | M49: 0 | N49: 3699005 | O49: 3699005 | P49: 0 | Q49: 3875441 | R49: 3875441 | S49: 0 | T49: 4279922
A50: 0042 1A-L19C | B50: SEBASTIAN LAUSI | C50: 2512579 | D50: 0 | E50: 2638484 | F50: 2638484 | G50: 0 | H50: 2770707 | I50: 2770707 | J50: 0 | K50: 2902186 | L50: 2902186 | M50: 0 | N50: 3040707 | O50: 3040707 | P50: 0 | Q50: 3188953 | R50: 3188953 | S50: 0 | T50: 3530794
A51: 0043 1A-L20 | B51: Luis Enrique Landini | C51: 39379 | D51: 77379 | E51: 6008 | F51: 6008 | G51: 6109 | H51: 51387 | I51: 51387 | J51: 51387 | K51: 51295 | L51: 51295 | M51: 51295 | N51: 56049 | O51: 56049 | P51: 56049 | Q51: 65392 | R51: 65392 | S51: 65392 | T51: 96965
A52: 0044 1A-L20B | B52: JAIME CHMEA | C52: 693950 | D52: 0 | E52: 767368 | F52: 767368 | G52: 0 | H52: 847537 | I52: 847537 | J52: 0 | K52: 926831 | L52: 926831 | M52: 0 | N52: 1013690 | O52: 1013690 | P52: 0 | Q52: 1112721 | R52: 1112721 | S52: 0 | T52: 1313283
A53: 0045 1A-L21 | B53: PABLO GARCIA NAVARRO | C53: 41420 | D53: 41420 | E53: 48718 | F53: 48718 | G53: 48718 | H53: 58778 | I53: 58778 | J53: 58778 | K53: 57627 | L53: 57627 | M53: 57627 | N53: 63670 | O53: 63670 | P53: 63670 | Q53: 89561 | R53: 89561 | S53: 89561 | T53: 115709
... A66: 0058 1A-L30 | B66: AGUSTÕN GIMENEZ/FERNANDA ARCURI | C66: 31536 | D66: 31536 | E66: 35893 | F66: 35893 | G66: 35893 | H66: 39214 | I66: 39214 | J66: 39214 | K66: 43015 | L66: 43015 | M66: 43015 | N66: 52342 | O66: 52342 | P66: 52342 | Q66: 63669 | R66: 63669 | S66: 63669 | T66: 93686
A67: 0059 1A-L30B | B67: CAR POINT | C67: 35360 | D67: 35360 | E67: 39966 | F67: 39966 | G67: 39966 | H67: 45590 | I67: 45590 | J67: 45590 | K67: 47764 | L67: 47764 | M67: 0 | N67: 102967
B68: Martin Andres RODE | O68: 102967 | P68: 48523.88 | Q68: 120318 | R68: 120318 | S68: 120318 | T68: 113416
A69: 0060 1A-L31 | B69: FRANCO BORDONI | C69: 39525 | D69: 39545 | E69: 46283 | F69: 46283 | G69: 46283 | H69: 50333 | I69: 50333 | J69: 50362 | K69: 54865 | L69: 54865 | M69: 54900 | N69: 60650 | O69: 60650 | P69: 60650 | Q69: 76987 | R69: 76987 | S69: 77000 | T69: 110539
A70: 0061 1A-L32 | B70: CARLOS ALBERTO MATUK. | C70: 39656 | D70: 39656 | E70: 83378 | F70: 83378 | G70: 0 | H70: 173848 | I70: 173848 | J70: 173848 | K70: 82155 | L70: 82155 | M70: 83525 | N70: 87908 | O70: 87908 | P70: 87908 | Q70: 98230 | R70: 98230 | S70: 98230 | T70: 139374
A71: 0062 1A-L33A | B71: CARLOS ALBERTO MATUK. | C71: 33422 | D71: 33422 | E71: 38349 | F71: 38349 | G71: 0 | H71: 86204 | I71: 86204 | J71: 86204 | K71: 45818 | L71: 45818 | M71: 46582 | N71: 55704 | O71: 55704 | P71: 55704 | Q71: 61029 | R71: 61029 | S71: 61029 | T71: 92879
A72: 0063 1A-L34- A | B72: Emiliano VOLPE | C72: 128524 | D72: 0 | E72: 187801 | F72: 187801 | G72: 0 | H72: 253591 | I72: 253591 | J72: 0 | K72: 326587 | L72: 326587 | M72: 0 | N72: 408304 | O72: 408304 | P72: 389522 | Q72: 79599 | R72: 79599 | S72: 0 | T72: 202262
A73: 0064 1A-L35 | B73: ANDREW CUMMINS | C73: 35345 | D73: 35345 | E73: 39487 | F73: 39487 | G73: 39487 | H73: 43160 | I73: 43160 | J73: 43160 | K73: 47389 | L73: 47389 | M73: 47389 | N73: 52419 | O73: 52419 | P73: 52419 | Q73: 63608 | R73: 63608 | S73: 63608 | T73: 95710
A74: 0065 1A-L35B | B74: ANDREW CUMMINS | C74: 34883 | D74: 34883 | E74: 39956 | F74: 39956 | G74: 39956 | H74: 43487 | I74: 43487 | J74: 43487 | K74: 47512 | L74: 47512 | M74: 47512 | N74: 52480 | O74: 52480 | P74: 52480 | Q74: 63260 | R74: 63260 | S74: 63260 | T74: 95245
A75: 0066 1A-L36 | B75: CARINA MOLOZAJ | C75: 34671 | D75: 0 | E75: 79882 | F75: 79882 | G75: 81153 | H75: 49969 | I75: 49969 | J75: 50737 | K75: 53353 | L75: 53353 | M75: 54203 | N75: 58914 | O75: 58914 | P75: 58914 | Q75: 62738 | R75: 62738 | S75: 63784 | T75: 100232
...

Sheet ANALISIS GASTOS VS COBRANZAS
A1: EXPENSAS VILLA MARIA - ANALISIS DE GASTOS DISTRIBUIDOS VS PAGOS RECIBIDOS
A3: DETALLE DE GASTOS DISTRIBUIDOS POR LOTE
A4: Months (Periodo expensas) | B4: Sum of Expensa A | C4: Sum of Expensa B | D4: Sum of Corte de Pasto | E4: Sum of Arba en revalúo | F4: Sum of Arba form. | G4: Sum of Previsión por mora | H4: Sum of Otros Gastos | I4: Sum of TOTAL | P4: Total Gastos distribuidos | Q4: Total Gastos s/detalle | R4: Diferencia
A5: Jan | B5: 17930791 | C5: 4489911.8 | D5: 294143.09 | E5: 729876.28 | F5: 392612.5 | H5: 556481.99 | I5: 1.9812678e+08 | P5: =SUM(B5:H5) -> 24393817 | Q5: ='[1]RESUMEN (2)'!$E$9+'[1]RESUMEN (2)'!$E$10 -> 18506799 | R5: =P5-Q5 -> 5887017.5
A6: Feb | B6: 19691587 | C6: 4929134.6 | D6: 293060.69 | E6: 655397.24 | F6: 269292.88 | H6: 788774.49 | I6: 2.0776356e+08 | P6: =SUM(B6:H6) -> 26627247 | Q6: ='[1]RESUMEN (2)'!$H$9+'[1]RESUMEN (2)'!$H$10 -> 19949932 | R6: =P6-Q6 -> 6677315
A7: Mar | B7: 21778897 | C7: 5451622.9 | D7: 293060.69 | E7: 543219.03 | F7: 222357.16 | H7: 229036.88 | I7: 2.1843189e+08 | P7: =SUM(B7:H7) -> 28518194 | Q7: ='[1]RESUMEN (2)'!$K$9+'[1]RESUMEN (2)'!$K$10 -> 28238114 | R7: =P7-Q7 -> 280079.6
A8: Apr | B8: 24174574 | C8: 6035163.4 | D8: 292485.89 | E8: 540686.37 | F8: 224331.37 | H8: 163413.59 | I8: 2.3390367e+08 | P8: =SUM(B8:H8) -> 31430655 | Q8: ='[1]RESUMEN (2)'!$N$9+'[1]RESUMEN (2)'!$N$10 -> 32231329 | R8: =P8-Q8 -> -800673.92
A9: May | B9: 25355131 | C9: 4035451.6 | D9: 293252.69 | E9: 542801.04 | F9: 222357.16 | G9: 5713295.9 | H9: 79479 | I9: 2.5101042e+08 | P9: =SUM(B9:H9) -> 36241769 | Q9: ='[1]RESUMEN (2)'!$Q$9+'[1]RESUMEN (2)'!$Q$10 -> 36168170 | R9: =P9-Q9 -> 73599.054
A10: Jun | B10: 43260004 | C10: 10803574 | D10: 293252.69 | E10: 542801.04 | F10: 222357.16 | H10: 54601.32 | I10: 2.8470957e+08 | P10: =SUM(B10:H10) -> 55176590 | Q10: ='[1]RESUMEN (2)'!$U$9+'[1]RESUMEN (2)'!$U$10 -> 55135050 | R10: =P10-Q10 -> 41540.11
A11: Jul | B11: 38449399 | C11: 9602193.3 | D11: 293252.69 | E11: 542801.04 | F11: 222357.38 | H11: -1085745.5 | I11: 3.1707151e+08 | P11: =SUM(B11:H11) -> 48024258 | Q11: =40510633.63+8435701.39 -> 48946335 | R11: =P11-Q11 -> -922077.11
A12: Grand Total | B12: 1.9064038e+08 | C12: 45347051 | D12: 2052508.4 | E12: 4097582 | F12: 1775665.6 | G12: 5713295.9 | H12: 786041.76 | I12: 1.7110174e+09 | P12: =SUM(P5:P10) -> 2.0238827e+08 | Q12: =SUM(Q5:Q10) -> 1.9022939e+08 | R12: =SUM(R5:R10) -> 12158877
A13: PAGOS RECIBIDOS
A14: Months (Periodo expensas) | B14: Sum of Pagos Recibidos | C14: Pagos recibidos vs. Gastos distribuidos
A15: Jan | B15: 14094494
A16: Feb | B16: 20317279 | C16: =GETPIVOTDATA("Pagos Recibidos",$A$14,"Months (Periodo expensas)",2)-P5 -> -4076537.7
A17: Mar | B17: 23740641 | C17: =GETPIVOTDATA("Pagos Recibidos",$A$14,"Months (Periodo expensas)",3)-P6 -> -2886606.2
A18: Apr | B18: 22478362 | C18: =GETPIVOTDATA("Pagos Recibidos",$A$14,"Months (Periodo expensas)",4)-P7 -> -6039831.8
A19: May | B19: 25428841 | C19: =GETPIVOTDATA("Pagos Recibidos",$A$14,"Months (Periodo expensas)",5)-P8 -> -6001814.5
A20: Jun | B20: 35985023 | C20: =GETPIVOTDATA("Pagos Recibidos",$A$14,"Months (Periodo expensas)",6)-P9 -> -256745.37 | E20: cobranzas s/movimiento de cuentas
A21: Jul | B21: 36204591 | C21: =GETPIVOTDATA("Pagos Recibidos",$A$14,"Months (Periodo expensas)",7)-P10 -> -18971999 | E21: 30244215 | F21: =E21-GETPIVOTDATA("Pagos Recibidos",$A$14,"Months (Periodo expensas)",7) -> -5960375.9
A22: Grand Total | B22: 1.7824923e+08 | C22: =SUM(C16:C21) -> -38233535
A23: DEUDA + INTERESES
A24: Months (Periodo expensas) | B24: Sum of Deuda | C24: Sum of Interés | D24: Sum of DEUDA TOTAL | F24: DEUDA + INTERESES S/ ESTADO PATRIMONIAL
A25: Jan | B25: 1.1920961e+08 | C25: 8586066.9 | D25: 1.2779567e+08 | F25: 1.7414995e+08
A26: Feb | B26: 1.226333e+08 | C26: 10061183 | D26: 1.3269448e+08 | F26: 1.8144753e+08
A27: Mar | B27: 1.2725491e+08 | C27: 11283517 | D27: 1.3853843e+08 | F27: 1.9142611e+08
A28: Apr | B28: 1.3379337e+08 | C28: 12671291 | D28: 1.4646467e+08 | F28: 2.0379415e+08
A29: May | B29: 1.4005854e+08 | C29: 14353804 | D29: 1.5441234e+08 | F29: 2.1566577e+08
A30: Jun | B30: 1.4145312e+08 | C30: 21190411 | D30: 1.6264353e+08 | F30: 2.3063408e+08
A31: Jul | B31: 1.6030623e+08 | C31: 28705918 | D31: 1.8901214e+08 | F31: 2.6960352e+08
C33: 1.0929729e+08
C34: =+C33-GETPIVOTDATA("Sum of Interés",$A$24,"Months (Periodo expensas)",7) -> 80591372

Sheet YTD RAW DATA
A1: EXPENSAS VILLA MARIA - DETALLE DE ESTADOS DE CUENTA Y PRORRATEO DE GASTOS
A3: U.F. Lote | B3: Propietario | C3: Saldo Anterior | D3: Pagos Recibidos | E3: Deuda | F3: Interés | G3: Disponible | H3: Expensa A | I3: Expensa B | J3: Corte de Pasto | K3: Arba en revalúo | L3: Arba form. 903 | M3: Previsión por mora | N3: Otros Gastos | O3: Redon. | P3: TOTAL | Q3: Periodo expensas | R3: Nombre propietario
A4: 0001 1A-L1 | B4: GRACIELA PRIORI (1) | C4: 32641 | D4: 32641 | E4: 0 | F4: 0 | G4: 0 | H4: 29346.63 | I4: 8974.37 | J4: 772.8 | K4: 1588.87 | L4: 0 | N4: -3585 | O4: 0.33 | P4: 37098 | Q4: 44927 | R4: GRACIELA PRIORI
A5: 0002 1A-L1B | B5: GRACIELA PRIORI (1) | C5: 32687 | D5: 32687 | E5: 0 | F5: 0 | G5: 0 | H5: 29346.63 | I5: 9023.68 | J5: 778.8 | K5: 1598.12 | L5: 0 | N5: -3590 | O5: 0.77 | P5: 37158 | Q5: 44927 | R5: GRACIELA PRIORI
A6: 0003 1A-L2 | B6: MIGUEL SOSTRES (1) | C6: 32816 | D6: 32816 | E6: 0 | F6: 0 | G6: 0 | H6: 29346.63 | I6: 9162.64 | J6: 790.8 | K6: 1622.17 | L6: 0 | N6: -3603 | O6: 0.76 | P6: 37320 | Q6: 44927 | R6: MIGUEL SOSTRES
A7: 0004 1A-L2B | B7: TRISTAN BRIANO (1) | C7: 30676 | D7: 30676 | E7: 0 | F7: 0 | G7: 0 | H7: 29346.63 | I7: 6831.64 | J7: 589.2 | K7: 1210.15 | L7: 0 | N7: -3384 | O7: 0.38 | P7: 34594 | Q7: 44927 | R7: TRISTAN BRIANO
A8: 0005 1A-L2C | B8: TRISTAN BRIANO (1) | C8: 30706 | D8: 30706 | E8: 0 | F8: 0 | G8: 0 | H8: 29346.63 | I8: 6863.02 | J8: 592.8 | K8: 1215.24 | L8: 0 | N8: -3387 | O8: 0.31 | P8: 34631 | Q8: 44927 | R8: TRISTAN BRIANO
A9: 0006 1A-L3 | B9: Esteban Marcelo CHAMS (1) | C9: 30458 | D9: 30458 | E9: 0 | F9: 0 | G9: 0 | H9: 29346.63 | I9: 6594.05 | J9: 568.8 | K9: 1168.07 | L9: 0 | N9: -3362 | O9: 0.45 | P9: 34316 | Q9: 44927 | R9: Esteban Marcelo CHAMS
A10: 0007 1A-L3B | B10: CARLOS RENE RODRIGUEZ (1) | C10: 33485 | D10: 33485 | E10: 0 | F10: 0 | G10: 0 | H10: 29346.63 | I10: 6535.78 | J10: 565.2 | K10: 1157.44 | L10: 0 | N10: -3356 | O10: 0.95 | P10: 34250 | Q10: 44927 | R10: CARLOS RENE RODRIGUEZ
A11: 0008 1A-L4 | B11: CLAUDIO SPERANZA (1) | C11: 48081 | D11: 48081 | E11: 0 | F11: 0 | G11: 0 | H11: 29346.63 | I11: 9561.6 | J11: 0 | K11: 1692.92 | L11: 33725.41 | N11: -3640 | O11: 0.44 | P11: 70687 | Q11: 44927 | R11: CLAUDIO SPERANZA
A12: 0009 1A-L4B | B12: RAFAEL BALTAZAR FLORES/TERESA MI—ONES (1) | C12: 39317 | D12: 39317 | E12: 0 | F12: 0 | G12: 0 | H12: 29346.63 | I12: 9579.53 | J12: 0 | K12: 1696.15 | L12: 0 | N12: 3303 | O12: 0.69 | P12: 43926 | Q12: 44927 | R12: RAFAEL BALTAZAR FLORES/TERESA MI—ONES
A13: 0010 1A-L4C | B13: GERARDO PAZ (1) | C13: 31206 | D13: 31206 | E13: 0 | F13: 0 | G13: 0 | H13: 29346.63 | I13: 7409.91 | J13: 638.4 | K13: 1311.88 | L13: 0 | N13: -3438 | O13: 0.18 | P13: 35269 | Q13: 44927 | R13: GERARDO PAZ
A14: 0011 1A-L4D | B14: DANIEL MARGULIES (1) | C14: 31195 | D14: 31195 | E14: 0 | F14: 0 | G14: 0 | H14: 29346.63 | I14: 7396.46 | J14: 638.4 | K14: 1309.57 | L14: 0 | N14: -3437 | O14: 0.94 | P14: 35255 | Q14: 44927 | R14: DANIEL MARGULIES
A15: 0012 1A-L5-2 | B15: Guadalupe Jazmin CHAMS | C15: 33082 | D15: 0 | E15: 33082 | F15: 1654.1 | G15: 0 | H15: 29346.63 | I15: 6535.78 | J15: 162 | K15: 3349.3 | L15: 0 | N15: 0 | O15: 0.19 | P15: 74130 | Q15: 44927 | R15: Guadalupe Jazmin CHAMS
... A34: 0031 1A-L14B | B34: ROBERTO MARINHO | C34: 39225 | D34: 39225 | E34: 0 | F34: 0 | G34: 0 | H34: 29346.63 | I34: 12255.71 | J34: 1057.2 | K34: 2170.13 | L34: 0 | N34: 0 | O34: 0.33 | P34: 44830 | Q34: 44927 | R34: ROBERTO MARINHO
A35: 0032 1A-L15 | B35: ALFREDO CASTIGLIA (1) | C35: 69272 | D35: 69272 | E35: Plan de Pago | F35: Plan de Pago | G35: 0 | H35: 29346.63 | I35: 12004.67 | J35: 1034.4 | K35: 2125.74 | L35: 0 | N35: 29981.03 | O35: 0.53 | P35: 74493 | Q35: 44927 | R35: ALFREDO CASTIGLIA
A36: 0033 1A-L15B | B36: BANCO MACRO (1) | C36: 37877 | D36: 37877 | E36: 0 | F36: 0 | G36: 0 | H36: 29346.63 | I36: 14680.85 | J36: 1266 | K36: 2599.72 | L36: 0 | N36: -4122 | O36: 0.8 | P36: 43772 | Q36: 44927 | R36: BANCO MACRO
A37: 0034 1A-L16 | B37: ARIEL AKERMAN - SEBASTAN JANON (1) | C37: 34625 | D37: 34625 | E37: 0 | F37: 0 | G37: 0 | H37: 29346.63 | I37: 11135.03 | J37: 961.2 | K37: 1971.76 | L37: 0 | N37: -3788 | O37: 0.38 | P37: 39627 | Q37: 44927 | R37: ARIEL AKERMAN - SEBASTAN JANON
A38: 0035 1A-L16B | B38: Gisela CANIEVSKY (1) | C38: 33214 | D38: 33214 | E38: 0 | F38: 0 | G38: 0 | H38: 29346.63 | I38: 9597.46 | J38: 828 | K38: 1699.39 | L38: 0 | N38: -3644 | O38: 0.52 | P38: 37828 | Q38: 44927 | R38: Gisela CANIEVSKY
A39: 0036 1A-L17 | B39: RUTA CPC | C39: 85952 | D39: 0 | E39: 83914.18 | F39: 6233.53 | G39: 0 | H39: 29346.63 | I39: 17531.84 | J39: 150 | K39: 3104.68 | L39: 0 | N39: 0 | O39: 0.14 | P39: 140281 | Q39: 44927 | R39: RUTA CPC
A40: 0037 1A-L17B | B40: RUTA CPC | C40: 83403 | D40: 0 | E40: 81419.48 | F40: 6054.49 | G40: 0 | H40: 29346.63 | I40: 14770.5 | J40: 1274.4 | K40: 2615.44 | L40: 0 | N40: 0 | O40: 0.06 | P40: 135481 | Q40: 44927 | R40: RUTA CPC
A41: 0038 1A-L18 | B41: BIAU DANIEL/CRISTALDO MABEL (1) | C41: 33169 | D41: 33169 | E41: 0 | F41: 0 | G41: 0 | H41: 29346.63 | I41: 10538.83 | J41: 0 | K41: 1865.86 | L41: 0 | N41: -3732 | O41: 0.68 | P41: 38020 | Q41: 44927 | R41: BIAU DANIEL/CRISTALDO MABEL
A42: 0039 1A-L18B | B42: MIGUEL PEREIRA L´PEZ (1) | C42: 2891455 | D42: 0 | E42: 1878350.6 | F42: En Abogados | G42: 0 | H42: 29346.63 | I42: 9050.57 | J42: 781.2 | K42: 1602.75 | L42: 0 | N42: 6970 | O42: 0.32 | P42: 3033124 | Q42: 44927 | R42: MIGUEL PEREIRA L´PEZ
A43: 0040 1A-L19 | B43: SEBASTIAN LAUSI (1) | C43: 2567206 | D43: 0 | E43: 1672294.5 | F43: En Abogados | G43: 0 | H43: 29346.63 | I43: 6840.6 | J43: 590.4 | K43: 1211.54 | L43: 0 | N43: 6568 | O43: 0.11 | P43: 2695378 | Q43: 44927 | R43: SEBASTIAN LAUSI
A44: 0041 1A-L19B | B44: SEBASTIAN LAUSI (1) | C44: 3074782 | D44: 0 | E44: 1994852.7 | F44: En Abogados | G44: 0 | H44: 29346.63 | I44: 10301.25 | J44: 888 | K44: 1824.24 | L44: 0 | N44: 7197 | O44: 0.25 | P44: 3224082 | Q44: 44927 | R44: SEBASTIAN LAUSI
A45: 0042 1A-L19C | B45: SEBASTIAN LAUSI (1) | C45: 2512579 | D45: 0 | E45: 1637588.3 | F45: En Abogados | G45: 0 | H45: 29346.63 | I45: 6473.02 | J45: 558 | K45: 1145.87 | L45: 0 | N45: 6502 | O45: 0.07 | P45: 2638484 | Q45: 44927 | R45: SEBASTIAN LAUSI
A46: 0043 1A-L20 | B46: Luis Enrique Landini (1) (2) | C46: 39379 | D46: 77379 | E46: 0 | F46: 0 | G46: 38000 | H46: 29346.63 | I46: 9655.74 | J46: 0 | K46: 1709.56 | L46: 0 | N46: 3296 | O46: 0.07 | P46: 6008 | Q46: 44927 | R46: Luis Enrique Landini
A47: 0044 1A-L20B | B47: JAIME CHMEA (1) | C47: 693950 | D47: 0 | E47: 524560.41 | F47: 195617.61 | G47: 0 | H47: 29346.63 | I47: 9211.95 | J47: 0 | K47: 1631.42 | L47: 0 | N47: 6999 | O47: 0.98 | P47: 767368 | Q47: 44927 | R47: JAIME CHMEA
A48: 0045 1A-L21 | B48: PABLO GARCIA NAVARRO (1) | C48: 41420 | D48: 41420 | E48: 0 | F48: 0 | G48: 0 | H48: 29346.63 | I48: 20257.33 | J48: 172.8 | K48: 3586.99 | L48: 0 | N48: -4646 | O48: 0.25 | P48: 48718 | Q48: 44927 | R48: PABLO GARCIA NAVARRO
A49: 0046 1A-L22 | B49: FIDEICOMISO VILLA MARIA | C49: 45533 | D49: 45533 | E49: 0 | F49: 0 | G49: 0 | H49: 29346.63 | I49: 20284.22 | J49: 0 | K49: 3591.61 | L49: 0 | N49: 0 | O49: 0.54 | P49: 53223 | Q49: 44927 | R49: FIDEICOMISO VILLA MARIA
A50: 0047 1A-L23 | B50: THOMAS HOELLER | C50: 127516 | D50: 0 | E50: 116917.31 | F50: 16444.56 | G50: 0 | H50: 29346.63 | I50: 15380.15 | J50: 1326 | K50: 2723.65 | L50: 0 | N50: 0 | O50: 0.7 | P50: 182139 | Q50: 44927 | R50: THOMAS HOELLER
A51: 0048 1A-L24 | B51: RUTA CPC | C51: 83932 | D51: 0 | E51: 81941.99 | F51: 6087.11 | G51: 0 | H51: 29346.63 | I51: 16433.58 | J51: 141.6 | K51: 2910.47 | L51: 0 | N51: 0 | O51: 0.62 | P51: 136862 | Q51: 44927 | R51: RUTA CPC
A52: 0049 1A-L25 | B52: ALFRED GLASSEL (1) | C52: 1260820 | D52: 0 | E52: 914061.6 | F52: En Abogados | G52: 0 | H52: 29346.63 | I52: 17343.57 | J52: 148.8 | K52: 3070.93 | L52: 0 | N52: 8475 | O52: 0.99 | P52: 1364909 | Q52: 44927 | R52: ALFRED GLASSEL
A53: 0050 1A-L26 | B53: IDA MABEL ZAPPALA (GABRIEL GAUNA APODER) (1) | C53: 39934 | D53: 40000 | E53: 0 | F53: 0 | G53: 66 | H53: 29346.63 | I53: 9086.44 | J53: 0 | K53: 1608.76 | L53: 0 | N53: 6262.5 | O53: 0.67 | P53: 46239 | Q53: 44927 | R53: IDA MABEL ZAPPALA (GABRIEL GAUNA APODER)
A54: 0051 1A-L26B | B54: SALVADOR BELLO | C54: -3015.7 | D54: 0 | E54: 0 | F54: 0 | G54: 3015.7 | H54: 29346.63 | I54: 9471.95 | J54: 817.2 | K54: 1677.19 | L54: 0 | N54: 0 | O54: 0.73 | P54: 38298 | Q54: 44927 | R54: SALVADOR BELLO
A55: 0052 1A-L27 | B55: TERESA TANCO | C55: 33593 | D55: 33593 | E55: 0 | F55: 504 | G55: 0 | H55: 29346.63 | I55: 10112.97 | J55: 873.6 | K55: 1790.95 | L55: 0 | N55: 0 | O55: 0.85 | P55: 42629 | Q55: 44927 | R55: TERESA TANCO
A56: 0053 1A-L27B | B56: FEDERICO BUNSOW | C56: 49011 | D56: 49011 | E56: 0 | F56: 706 | G56: 0 | H56: 29346.63 | I56: 10059.18 | J56: 0 | K56: 1781.24 | L56: 0 | N56: 0 | O56: 0.95 | P56: 41894 | Q56: 44927 | R56: FEDERICO BUNSOW
A57: 0054 1A-L28 | B57: MARIANA VALOTTA (1) | C57: 35086 | D57: 35086 | E57: 0 | F57: 0 | G57: 0 | H57: 29346.63 | I57: 12381.22 | J57: 0 | K57: 1398.82 | L57: 5771.4 | N57: -3484 | O57: 0.93 | P57: 45415 | Q57: 44927 | R57: MARIANA VALOTTA
A58: 0055 1A-L28B | B58: PABLO VERA PINTO (1) | C58: 32064 | D58: 32064 | E58: 0 | F58: 0 | G58: 0 | H58: 29346.63 | I58: 8342.31 | J58: 720 | K58: 1476.97 | L58: 0 | N58: -3526 | O58: 0.09 | P58: 36360 | Q58: 44927 | R58: PABLO VERA PINTO
A59: 0056 1A-L29 | B59: PABLO VERA PINTO (1) | C59: 31659 | D59: 31659 | E59: 0 | F59: 0 | G59: 0 | H59: 29346.63 | I59: 8723.34 | J59: 0 | K59: 1544.48 | L59: 29288.89 | N59: -3562 | O59: 0.66 | P59: 65342 | Q59: 44927 | R59: PABLO VERA PINTO
...

Sheet JULIO 2023
A3: U.F. Lote | B3: Propietario | C3: Saldo Anterior | D3: Pagos Recibidos | E3: Deuda | F3: Interés | G3: Disponible | H3: Expensa A | I3: Expensa B | J3: Corte de Pasto | K3: Arba en revalúo | L3: Arba form. 903 | M3: Previsión por mora | N3: Otros Gastos | O3: Redon. | P3: TOTAL | Q3: Periodo expensas
A4: 0001 1A-L1 | B4: GRACIELA PRIORI (1) | C4: 89153 | D4: 89153 | E4: 0 | F4: 0 | G4: 0 | H4: 62928.64 | I4: 19243.94 | J4: 772.8 | K4: 1185.09 | L4: 0 | N4: -7964.35 | O4: 0.88 | P4: 76167 | Q4: 45108 | R4: GRACIELA PRIORI | T4: 0001 1A-L1 | U4: GRACIELA PRIORI (1)
A5: 0002 1A-L1B | B5: GRACIELA PRIORI (1) | C5: 89278 | D5: 89278 | E5: 0 | F5: 0 | G5: 0 | H5: 62928.64 | I5: 19349.68 | J5: 778.8 | K5: 1191.99 | L5: 0 | N5: -7975.31 | O5: 0.2 | P5: 76274 | Q5: 45108 | R5: GRACIELA PRIORI | T5: 0002 1A-L1B | U5: GRACIELA PRIORI (1)
A6: 0003 1A-L2 | B6: MIGUEL SOSTRES (1) | C6: 89624 | D6: 89624 | E6: 0 | F6: 0 | G6: 0 | H6: 62928.64 | I6: 19647.66 | J6: 790.8 | K6: 1209.92 | L6: 0 | N6: -8003.64 | O6: 0.62 | P6: 76574 | Q6: 45108 | R6: MIGUEL SOSTRES | T6: 0003 1A-L2 | U6: MIGUEL SOSTRES (1)
A7: 0004 1A-L2B | B7: TRISTAN BRIANO (1) | C7: 83813 | D7: 83813 | E7: 0 | F7: 0 | G7: 0 | H7: 62928.64 | I7: 14649.23 | J7: 589.2 | K7: 902.61 | L7: 0 | N7: -7517.61 | O7: 0.93 | P7: 71553 | Q7: 45108 | R7: TRISTAN BRIANO | T7: 0004 1A-L2B | U7: TRISTAN BRIANO (1)
A8: 0005 1A-L2C | B8: TRISTAN BRIANO (1) | C8: 83891 | D8: 83891 | E8: 0 | F8: 0 | G8: 0 | H8: 62928.64 | I8: 14716.52 | J8: 592.8 | K8: 906.41 | L8: 0 | N8: -7524 | O8: 0.63 | P8: 71621 | Q8: 45108 | R8: TRISTAN BRIANO | T8: 0005 1A-L2C | U8: TRISTAN BRIANO (1)
A9: 0006 1A-L3 | B9: Esteban Marcelo CHAMS (1) | C9: 83220 | D9: 84053 | E9: 0 | F9: 833 | G9: 833 | H9: 62928.64 | I9: 14139.78 | J9: 568.8 | K9: 871.23 | L9: 0 | N9: -7468.27 | O9: 0.82 | P9: 71041 | Q9: 45108 | R9: Esteban Marcelo CHAMS | T9: 0006 1A-L3 | U9: Esteban Marcelo CHAMS (1)
A10: 0007 1A-L3B | B10: CARLOS RENE RODRIGUEZ | C10: 87999 | D10: 87999 | E10: 0 | F10: 0 | G10: 0 | H10: 62928.64 | I10: 14014.82 | J10: 565.2 | K10: 863.29 | L10: 0 | N10: -7455.48 | O10: 0.53 | P10: 70917 | Q10: 45108 | R10: CARLOS RENE RODRIGUEZ | T10: 0007 1A-L3B | U10: CARLOS RENE RODRIGUEZ
A11: 0008 1A-L4 | B11: CLAUDIO SPERANZA (1) | C11: 108896 | D11: 108898 | E11: 0 | F11: 0 | G11: 2 | H11: 62928.64 | I11: 20503.16 | J11: 0 | K11: 1262.69 | L11: 19100.5 | N11: -8087 | O11: 0.01 | P11: 95706 | Q11: 45108 | R11: CLAUDIO SPERANZA | T11: 0008 1A-L4 | U11: CLAUDIO SPERANZA (1)
A12: 0009 1A-L4B | B12: RAFAEL BALTAZAR FLORES/TERESA MI— ONES (1) | C12: 89837 | D12: 89837 | E12: 0 | F12: 0 | G12: 0 | H12: 62928.64 | I12: 20541.61 | J12: 0 | K12: 1265.11 | L12: 0 | N12: -8090.43 | O12: 0.07 | P12: 76645 | Q12: 45108 | R12: RAFAEL BALTAZAR FLORES/TERESA MI—ONES | T12: 0009 1A-L4B | U12: RAFAEL BALTAZAR FLORES/TERESA MI— ONES (1)
A13: 0010 1A-L4C | B13: GERARDO PAZ (1) | C13: 85254 | D13: 54206 | E13: 31048 | F13: 4733.83 | G13: 0 | H13: 62928.64 | I13: 15889.23 | J13: 638.4 | K13: 978.49 | L13: 0 | N13: 0 | O13: 0.41 | P13: 116217 | Q13: 45108 | R13: GERARDO PAZ | T13: 0010 1A-L4C | U13: GERARDO PAZ (1)
A14: 0011 1A-L4D | B14: DANIEL MARGULIES (1) | C14: 85221 | D14: 85221 | E14: 0 | F14: 0 | G14: 0 | H14: 62928.64 | I14: 15860.39 | J14: 638.4 | K14: 976.77 | L14: 0 | N14: -7634.55 | O14: 0.35 | P14: 72770 | Q14: 45108 | R14: DANIEL MARGULIES | T14: 0011 1A-L4D | U14: DANIEL MARGULIES (1)
A15: 0012 1A-L5-2 | B15: Guadalupe Jazmin CHAMS (1) | C15: 84310 | D15: 85154 | E15: 0 | F15: 844 | G15: 844 | H15: 62928.64 | I15: 14014.82 | J15: 162 | K15: 2498.14 | L15: 0 | N15: -7452.74 | O15: 0.14 | P15: 72151 | Q15: 45108 | R15: Guadalupe Jazmin CHAMS | T15: 0012 1A-L5-2 | U15: Guadalupe Jazmin CHAMS (1)
... A34: 0031 1A-L14B | B34: ROBERTO MARINHO | C34: 103047 | D34: 103047 | E34: 0 | F34: 0 | G34: 0 | H34: 62928.64 | I34: 26280.18 | J34: 1057.2 | K34: 1618.63 | L34: 0 | N34: 0 | O34: 0.35 | P34: 91885 | Q34: 45108 | R34: ROBERTO MARINHO | T34: 0031 1A-L14B | U34: ROBERTO MARINHO
A35: 0032 1A-L15 | B35: ALFREDO CASTIGLIA (1) | C35: 136236 | D35: 136236 | E35: Plan de Pago | F35: Plan de Pago | G35: 0 | H35: 62928.64 | I35: 25741.89 | J35: 1034.4 | K35: 1585.52 | L35: 0 | N35: 33851.03 | O35: 0.52 | P35: 125142 | Q35: 45108 | R35: ALFREDO CASTIGLIA | T35: 0032 1A-L15 | U35: ALFREDO CASTIGLIA (1)
A36: 0033 1A-L15B | B36: Ariel Arnoldo Abramovich (1) | C36: 103381 | D36: 104500 | E36: 0 | F36: 1034 | G36: 1119 | H36: 62928.64 | I36: 31480.47 | J36: 1266 | K36: 1939.05 | L36: 0 | N36: -9156.58 | O36: 0.42 | P36: 88373 | Q36: 45108 | R36: Ariel Arnoldo Abramovich | T36: 0033 1A-L15B | U36: Ariel Arnoldo Abramovich (1)
A37: 0034 1A-L16 | B37: ARIEL AKERMAN - SEBASTAN JANON (1) | C37: 94542 | D37: 94542 | E37: 0 | F37: 0 | G37: 0 | H37: 62928.64 | I37: 23877.1 | J37: 961.2 | K37: 1470.67 | L37: 0 | N37: -8415.66 | O37: 0.05 | P37: 80822 | Q37: 45108 | R37: ARIEL AKERMAN - SEBASTAN JANON | T37: 0034 1A-L16 | U37: ARIEL AKERMAN - SEBASTAN JANON (1)
A38: 0035 1A-L16B | B38: Gisela CANIEVSKY (1) | C38: 90708 | D38: 0 | E38: 90708 | F38: 12245.58 | G38: 0 | H38: 62928.64 | I38: 20580.06 | J38: 828 | K38: 1267.52 | L38: 0 | N38: 0 | O38: 0.2 | P38: 188558 | Q38: 45108 | R38: Gisela CANIEVSKY | T38: 0035 1A-L16B | U38: Gisela CANIEVSKY (1)
A39: 0036 1A-L17 | B39: RUTA CPC | C39: 290212 | D39: 0 | E39: 265528.29 | F39: 60530.03 | G39: 0 | H39: 62928.64 | I39: 37593.93 | J39: 150 | K39: 2315.69 | L39: 0 | N39: 0 | O39: 0.42 | P39: 429047 | Q39: 45108 | R39: RUTA CPC | T39: 0036 1A-L17 | U39: RUTA CPC
A40: 0037 1A-L17B | B40: RUTA CPC | C40: 274628 | D40: 0 | E40: 251272.41 | F40: 57277.37 | G40: 0 | H40: 62928.64 | I40: 31672.72 | J40: 1274.4 | K40: 1950.78 | L40: 0 | N40: 0 | O40: 0.68 | P40: 406377 | Q40: 45108 | R40: RUTA CPC | T40: 0037 1A-L17B | U40: RUTA CPC
A41: 0038 1A-L18 | B41: BIAU DANIEL/ CRISTALDO MABEL (1) | C41: 92146 | D41: 92148 | E41: 0 | F41: 0 | G41: 2 | H41: 62928.64 | I41: 22598.65 | J41: 0 | K41: 1391.69 | L41: 0 | N41: -8290.5 | O41: 0.52 | P41: 78627 | Q41: 45108 | R41: BIAU DANIEL/CRISTALDO MABEL | T41: 0038 1A-L18 | U41: BIAU DANIEL/ CRISTALDO MABEL (1)
A42: 0039 1A-L18B | B42: MIGUEL PEREIRA L´PEZ | C42: 4035620 | D42: 0 | E42: 2238564.8 | F42: En Abogados | G42: 0 | H42: 62928.64 | I42: 19407.35 | J42: 781.2 | K42: 1195.44 | L42: 0 | N42: 0 | O42: 0.12 | P42: 4422139 | Q42: 45108 | R42: MIGUEL PEREIRA L´PEZ | T42: 0039 1A-L18B | U42: MIGUEL PEREIRA L´PEZ
A43: 0040 1A-L19 | B43: SEBASTIAN LAUSI | C43: 3603531 | D43: 0 | E43: 2008146 | F43: En Abogados | G43: 0 | H43: 62928.64 | I43: 14668.46 | J43: 590.4 | K43: 903.65 | L43: 0 | N43: 0 | O43: 0.14 | P43: 3953722 | Q43: 45108 | R43: SEBASTIAN LAUSI | T43: 0040 1A-L19 | U43: SEBASTIAN LAUSI
A44: 0041 1A-L19B | B44: SEBASTIAN LAUSI | C44: 4279922 | D44: 0 | E44: 2368844.5 | F44: En Abogados | G44: 0 | H44: 62928.64 | I44: 22089.2 | J44: 888 | K44: 1360.65 | L44: 0 | N44: 0 | O44: 0.51 | P44: 4686983 | Q44: 45108 | R44: SEBASTIAN LAUSI | T44: 0041 1A-L19B | U44: SEBASTIAN LAUSI
A45: 0042 1A-L19C | B45: SEBASTIAN LAUSI | C45: 3530794 | D45: 0 | E45: 1969382.1 | F45: En Abogados | G45: 0 | H45: 62928.64 | I45: 13880.24 | J45: 558 | K45: 854.67 | L45: 0 | N45: 0 | O45: 0.86 | P45: 3874883 | Q45: 45108 | R45: SEBASTIAN LAUSI | T45: 0042 1A-L19C | U45: SEBASTIAN LAUSI
A46: 0043 1A-L20 | B46: Luis Enrique Landini (1) | C46: 96965 | D46: 96965 | E46: 0 | F46: 0 | G46: 0 | H46: 62928.64 | I46: 20705.02 | J46: 0 | K46: 1275.11 | L46: 0 | N46: -1161.87 | O46: 0.1 | P46: 83747 | Q46: 45108 | R46: Luis Enrique Landini | T46: 0043 1A-L20 | U46: Luis Enrique Landini (1)
A47: 0044 1A-L20B | B47: JAIME CHMEA | C47: 1313283 | D47: 0 | E47: 881783.28 | F47: 550540.46 | G47: 0 | H47: 62928.64 | I47: 19753.39 | J47: 0 | K47: 1216.82 | L47: 0 | N47: 0 | O47: 0.41 | P47: 1516223 | Q47: 45108 | R47: JAIME CHMEA | T47: 0044 1A-L20B | U47: JAIME CHMEA
A48: 0045 1A-L21 | B48: PABLO GARCIA NAVARRO | C48: 115709 | D48: 115709 | E48: 0 | F48: 0 | G48: 0 | H48: 62928.64 | I48: 43438.24 | J48: 172.8 | K48: 2675.42 | L48: 0 | N48: 0 | O48: 0.9 | P48: 109216 | Q48: 45108 | R48: PABLO GARCIA NAVARRO | T48: 0045 1A-L21 | U48: PABLO GARCIA NAVARRO (1)
A49: 0046 1A-L22 | B49: FIDEICOMISO VILLA MARIA | C49: 133494 | D49: 133494 | E49: 0 | F49: 1216 | G49: 0 | H49: 62928.64 | I49: 43495.92 | J49: 0 | K49: 2678.87 | L49: 0 | N49: 0 | O49: 0.57 | P49: 110320 | Q49: 45108 | R49: FIDEICOMISO VILLA MARIA | T49: 0046 1A-L22 | U49: FIDEICOMISO VILLA MARIA (2)
A50: 0047 1A-L23 | B50: THOMAS HOELLER | C50: 216919 | D50: 0 | E50: 189644.05 | F50: 52876.9 | G50: 0 | H50: 62928.64 | I50: 32980 | J50: 1326 | K50: 2031.48 | L50: 0 | N50: 0 | O50: 0.93 | P50: 341788 | Q50: 45108 | R50: THOMAS HOELLER | T50: 0047 1A-L23 | U50: THOMAS HOELLER
A51: 0048 1A-L24 | B51: RUTA CPC | C51: 282489 | D51: 0 | E51: 258488.29 | F51: 58896.63 | G51: 0 | H51: 62928.64 | I51: 35238.9 | J51: 141.6 | K51: 2170.83 | L51: 0 | N51: 0 | O51: 0.11 | P51: 417865 | Q51: 45108 | R51: RUTA CPC | T51: 0048 1A-L24 | U51: RUTA CPC
A52: 0049 1A-L25 | B52: ALFRED GLASSEL | C52: 2131024 | D52: 0 | E52: 1357596.3 | F52: En Abogados | G52: 0 | H52: 62928.64 | I52: 37190.21 | J52: 148.8 | K52: 2290.51 | L52: 0 | N52: 0 | O52: 0.34 | P52: 2416858 | Q52: 45108 | R52: ALFRED GLASSEL | T52: 0049 1A-L25 | U52: ALFRED GLASSEL
A53: 0050 1A-L26 | B53: IDA MABEL ZAPPALA (GABRIEL GAUNA APODER) | C53: 121639 | D53: 0 | E53: 111872.02 | F53: 24869.7 | G53: 0 | H53: 62928.64 | I53: 19484.25 | J53: 0 | K53: 1199.92 | L53: 0 | N53: 0 | O53: 0.47 | P53: 220355 | Q53: 45108 | R53: IDA MABEL ZAPPALA (GABRIEL GAUNA APODER) | T53: 0050 1A-L26 | U53: IDA MABEL ZAPPALA (GABRIEL GAUNA APODER) (2)
A54: 0051 1A-L26B | B54: SALVADOR BELLO | C54: 58607 | D54: 0 | E54: 58607 | F54: 7911.95 | G54: 0 | H54: 62928.64 | I54: 20310.91 | J54: 817.2 | K54: 1250.97 | L54: 0 | N54: 0 | O54: 0.33 | P54: 151827 | Q54: 45108 | R54: SALVADOR BELLO | T54: 0051 1A-L26B | U54: SALVADOR BELLO
A55: 0052 1A-L27 | B55: TERESA TANCO (1) | C55: 98416 | D55: 98416 | E55: 0 | F55: 0 | G55: 0 | H55: 62928.64 | I55: 21685.48 | J55: 873.6 | K55: 1335.81 | L55: 0 | N55: -8202.8 | O55: 0.27 | P55: 78621 | Q55: 45108 | R55: TERESA TANCO | T55: 0052 1A-L27 | U55: TERESA TANCO
A56: 0053 1A-L27B | B56: FEDERICO BUNSOW | C56: 97389 | D56: 0 | E56: 96400 | F56: 14003 | G56: 0 | H56: 62928.64 | I56: 21570.13 | J56: 0 | K56: 1328.57 | L56: 0 | N56: 0 | O56: 0.66 | P56: 196231 | Q56: 45108 | R56: FEDERICO BUNSOW | T56: 0053 1A-L27B | U56: FEDERICO BUNSOW
A57: 0054 1A-L28 | B57: MARIANA VALOTTA | C57: 117840 | D57: 81546.03 | E57: 36293.97 | F57: 4899.69 | G57: 0 | H57: 62928.64 | I57: 26549.33 | J57: 0 | K57: 1043.33 | L57: 3268.65 | N57: 0 | O57: 0.39 | P57: 134984 | Q57: 45108 | R57: MARIANA VALOTTA | T57: 0054 1A-L28 | U57: MARIANA VALOTTA (1)
A58: 0055 1A-L28B | B58: PABLO VERA PINTO (1) | C58: 87580 | D58: 87580 | E58: 0 | F58: 0 | G58: 0 | H58: 62928.64 | I58: 17888.6 | J58: 720 | K58: 1101.62 | L58: 0 | N58: -7831.88 | O58: 0.02 | P58: 74807 | Q58: 45108 | R58: PABLO VERA PINTO | T58: 0055 1A-L28B | U58: PABLO VERA PINTO (1)
A59: 0056 1A-L29 | B59: PABLO VERA PINTO (1) | C59: 104364 | D59: 104364 | E59: 0 | F59: 0 | G59: 0 | H59: 62928.64 | I59: 18705.65 | J59: 0 | K59: 1151.98 | L59: 16587.86 | N59: -7912.28 | O59: 0.15 | P59: 91462 | Q59: 45108 | R59: PABLO VERA PINTO | T59: 0056 1A-L29 | U59: PABLO VERA PINTO (1)
A60: 0057 1A-L29B | B60: GABRIEL GALATI | C60: 92978 | D60: 0 | E60: 92978 | F60: 12552.03 | G60: 0 | H60: 62928.64 | I60: 18686.42 | J60: 0 | K60: 1150.94 | L60: 0 | N60: 0 | O60: 0.97 | P60: 188297 | Q60: 45108 | R60: GABRIEL GALATI | T60: 0057 1A-L29B | U60: GABRIEL GALATI
...

Sheet JUNIO 2023
A3: U.F. Lote | B3: Propietario | C3: Saldo Anterior | D3: Pagos Recibidos | E3: Deuda | F3: Interés | G3: Disponible | H3: Expensa A | I3: Expensa B | J3: Corte de Pasto | K3: Arba en revalúo | L3: Arba form. 903 | M3: Previsión por mora | N3: Otros Gastos | O3: Redon. | P3: TOTAL | Q3: Periodo expensas
A4: 0001 1A-L1 | B4: GRACIELA PRIORI (1) | C4: 57739 | D4: 57739 | E4: 0 | F4: 0 | G4: 0 | H4: 70801.97 | I4: 21651.65 | J4: 772.8 | K4: 1185.09 | L4: 0 | N4: -5258.78 | O4: 0.27 | P4: 89153 | Q4: 45078
A5: 0002 1A-L1B | B5: GRACIELA PRIORI (1) | C5: 57852 | D5: 57852 | E5: 0 | F5: 0 | G5: 0 | H5: 70801.97 | I5: 21770.61 | J5: 778.8 | K5: 1191.99 | L5: 0 | N5: -5266.02 | O5: 0.65 | P5: 89278 | Q5: 45078
A6: 0003 1A-L2 | B6: MIGUEL SOSTRES (1) | C6: 58166 | D6: 58166 | E6: 0 | F6: 0 | G6: 0 | H6: 70801.97 | I6: 22105.88 | J6: 790.8 | K6: 1209.92 | L6: 0 | N6: -5284.72 | O6: 0.15 | P6: 89624 | Q6: 45078
A7: 0004 1A-L2B | B7: TRISTAN BRIANO (1) | C7: 52899 | D7: 52899 | E7: 0 | F7: 0 | G7: 0 | H7: 70801.97 | I7: 16482.07 | J7: 589.2 | K7: 902.61 | L7: 0 | N7: -4963.8 | O7: 0.95 | P7: 83813 | Q7: 45078
A8: 0005 1A-L2C | B8: TRISTAN BRIANO (1) | C8: 52970 | D8: 52970 | E8: 0 | F8: 0 | G8: 0 | H8: 70801.97 | I8: 16557.78 | J8: 592.8 | K8: 906.41 | L8: 0 | N8: -4968.02 | O8: 0.06 | P8: 83891 | Q8: 45078
A9: 0006 1A-L3 | B9: Esteban Marcelo CHAMS (1) | C9: 52362 | D9: 52362 | E9: 0 | F9: 0 | G9: 0 | H9: 70801.97 | I9: 15908.88 | J9: 568.8 | K9: 871.23 | L9: 0 | N9: -4931.22 | O9: 0.34 | P9: 83220 | Q9: 45078
A10: 0007 1A-L3B | B10: CARLOS RENE RODRIGUEZ | C10: 104877 | D10: 106588 | E10: 0 | F10: 1711 | G10: 1711 | H10: 70801.97 | I10: 15768.28 | J10: 565.2 | K10: 863.29 | L10: 0 | N10: 0 | O10: 0.26 | P10: 87999 | Q10: 45078
A11: 0008 1A-L4 | B11: CLAUDIO SPERANZA (1) | C11: 77343 | D11: 77342 | E11: 1 | F11: 0.14 | G11: 0 | H11: 70801.97 | I11: 23068.42 | J11: 0 | K11: 1262.69 | L11: 19100.48 | N11: -5339.61 | O11: 0.91 | P11: 108896 | Q11: 45078
A12: 0009 1A-L4B | B12: RAFAEL BALTAZAR FLORES/TERESA MI— ONES (1) | C12: 65851 | D12: 65851 | E12: 0 | F12: 0 | G12: 0 | H12: 70801.97 | I12: 23111.68 | J12: 0 | K12: 1265.11 | L12: 0 | N12: -5342.03 | O12: 0.27 | P12: 89837 | Q12: 45078
A13: 0010 1A-L4C | B13: GERARDO PAZ (1) | C13: 54205 | D13: 54205 | E13: 0 | F13: 0 | G13: 0 | H13: 70801.97 | I13: 17877.21 | J13: 638.4 | K13: 978.49 | L13: 0 | N13: -5042.82 | O13: 0.75 | P13: 85254 | Q13: 45078
A14: 0011 1A-L4D | B14: DANIEL MARGULIES (1) | C14: 54176 | D14: 54176 | E14: 0 | F14: 0 | G14: 0 | H14: 70801.97 | I14: 17844.77 | J14: 638.4 | K14: 976.77 | L14: 0 | N14: -5041.01 | O14: 0.1 | P14: 85221 | Q14: 45078
A15: 0012 1A- L5-2 | B15: Guadalupe Jazmin CHAMS (1) | C15: 53465 | D15: 53465 | E15: 0 | F15: 0 | G15: 0 | H15: 70801.97 | I15: 15768.28 | J15: 162 | K15: 2498.14 | L15: 0 | N15: -4920.97 | O15: 0.58 | P15: 84310 | Q15: 45078
... A34: 0031 1A- L14B | B34: ROBERTO MARINHO | C34: 70886 | D34: 70886 | E34: 0 | F34: 0 | G34: 0 | H34: 70801.97 | I34: 29568.24 | J34: 1057.2 | K34: 1618.63 | L34: 0 | N34: 0 | O34: 0.96 | P34: 103047 | Q34: 45078
A35: 0032 1A-L15 | B35: ALFREDO CASTIGLIA (1) | C35: 98438 | D35: 98438 | E35: Plan de Pago | F35: Plan de Pago | G35: 0 | H35: 70801.97 | I35: 28962.6 | J35: 1034.4 | K35: 1585.52 | L35: 0 | N35: 33851.03 | O35: 0.48 | P35: 136236 | Q35: 45078
A36: 0033 1A- L15B | B36: Ariel Arnoldo Abramovich (1) | C36: 82700 | D36: 82700 | E36: 0 | F36: 0 | G36: 0 | H36: 70801.97 | I36: 35419.16 | J36: 1266 | K36: 1939.05 | L36: 0 | N36: -6046 | O36: 0.82 | P36: 103381 | Q36: 45078
A37: 0034 1A-L16 | B37: ARIEL AKERMAN - SEBASTAN JANON (1) | C37: 62624 | D37: 62624 | E37: 0 | F37: 0 | G37: 0 | H37: 70801.97 | I37: 26864.48 | J37: 961.2 | K37: 1470.67 | L37: 0 | N37: -5556.78 | O37: 0.46 | P37: 94542 | Q37: 45078
A38: 0035 1A- L16B | B38: Gisela CANIEVSKY (1) | C38: 59148 | D38: 59148 | E38: 0 | F38: 0 | G38: 0 | H38: 70801.97 | I38: 23154.94 | J38: 828 | K38: 1267.52 | L38: 0 | N38: -5345.04 | O38: 0.61 | P38: 90708 | Q38: 45078
A39: 0036 1A-L17 | B39: RUTA CPC | C39: 154401 | D39: 0 | E39: 149962.19 | F39: 24683.71 | G39: 0 | H39: 70801.97 | I39: 42297.5 | J39: 150 | K39: 2315.69 | L39: 0 | N39: 0 | O39: 0.94 | P39: 290212 | Q39: 45078
A40: 0037 1A- L17B | B40: RUTA CPC | C40: 145848 | D40: 0 | E40: 141609.72 | F40: 23355.59 | G40: 0 | H40: 70801.97 | I40: 35635.46 | J40: 1274.4 | K40: 1950.78 | L40: 0 | N40: 0 | O40: 0.08 | P40: 274628 | Q40: 45078
A41: 0038 1A-L18 | B41: BIAU DANIEL/ CRISTALDO MABEL (1) | C41: 60367 | D41: 60367 | E41: 0 | F41: 0 | G41: 0 | H41: 70801.97 | I41: 25426.09 | J41: 0 | K41: 1391.69 | L41: 0 | N41: -5474.13 | O41: 0.38 | P41: 92146 | Q41: 45078
A42: 0039 1A- L18B | B42: MIGUEL PEREIRA L´PEZ | C42: 3651572 | D42: 0 | E42: 2143950.1 | F42: En Abogados | G42: 0 | H42: 70801.97 | I42: 21835.5 | J42: 781.2 | K42: 1195.44 | L42: 0 | N42: 0 | O42: 0.63 | P42: 4035620 | Q42: 45078
A43: 0040 1A-L19 | B43: SEBASTIAN LAUSI | C43: 3255619 | D43: 0 | E43: 1919345.7 | F43: En Abogados | G43: 0 | H43: 70801.97 | I43: 16503.7 | J43: 590.4 | K43: 903.65 | L43: 0 | N43: 0 | O43: 0.61 | P43: 3603531 | Q43: 45078
A44: 0041 1A- L19B | B44: SEBASTIAN LAUSI | C44: 3875441 | D44: 0 | E44: 2270940.4 | F44: En Abogados | G44: 0 | H44: 70801.97 | I44: 24852.89 | J44: 888 | K44: 1360.65 | L44: 0 | N44: 0 | O44: 0.54 | P44: 4279922 | Q44: 45078
A45: 0042 1A- L19C | B45: SEBASTIAN LAUSI | C45: 3188953 | D45: 0 | E45: 1881550.4 | F45: En Abogados | G45: 0 | H45: 70801.97 | I45: 15616.87 | J45: 558 | K45: 854.67 | L45: 0 | N45: 0 | O45: 0.18 | P45: 3530794 | Q45: 45078
A46: 0043 1A-L20 | B46: Luis Enrique Landini (1) | C46: 65392 | D46: 65392 | E46: 0 | F46: 0 | G46: 0 | H46: 70801.97 | I46: 23295.53 | J46: 0 | K46: 1275.11 | L46: 0 | N46: 1592.12 | O46: 0.27 | P46: 96965 | Q46: 45078
A47: 0044 1A- L20B | B47: JAIME CHMEA | C47: 1112721 | D47: 0 | E47: 787539.05 | F47: 431499.72 | G47: 0 | H47: 70801.97 | I47: 22224.84 | J47: 0 | K47: 1216.82 | L47: 0 | N47: 0 | O47: 0.6 | P47: 1313283 | Q47: 45078
A48: 0045 1A-L21 | B48: PABLO GARCIA NAVARRO (1) | C48: 89561 | D48: 89561 | E48: 0 | F48: 0 | G48: 0 | H48: 70801.97 | I48: 48873.03 | J48: 172.8 | K48: 2675.42 | L48: 0 | N48: -6814.52 | O48: 0.3 | P48: 115709 | Q48: 45078
A49: 0046 1A-L22 | B49: FIDEICOMISO VILLA MARIA (2) | C49: 89533 | D49: 90390.14 | E49: 0 | F49: 11932.36 | G49: 857.14 | H49: 70801.97 | I49: 48937.92 | J49: 0 | K49: 2678.87 | L49: 0 | N49: 0 | O49: 0.02 | P49: 133494 | Q49: 45078
A50: 0047 1A-L23 | B50: THOMAS HOELLER | C50: 95072 | D50: 0 | E50: 78378.09 | F50: 27274.95 | G50: 0 | H50: 70801.97 | I50: 37106.3 | J50: 1326 | K50: 2031.48 | L50: 0 | N50: 0 | O50: 0.21 | P50: 216919 | Q50: 45078
A51: 0048 1A-L24 | B51: RUTA CPC | C51: 150053 | D51: 0 | E51: 145725.19 | F51: 24000.71 | G51: 0 | H51: 70801.97 | I51: 39647.83 | J51: 141.6 | K51: 2170.83 | L51: 0 | N51: 0 | O51: 0.87 | P51: 282489 | Q51: 45078
A52: 0049 1A-L25 | B52: ALFRED GLASSEL | C52: 1848200 | D52: 0 | E52: 1242511.3 | F52: En Abogados | G52: 0 | H52: 70801.97 | I52: 41843.27 | J52: 148.8 | K52: 2290.51 | L52: 0 | N52: 0 | O52: 0.43 | P52: 2131024 | Q52: 45078
A53: 0050 1A-L26 | B53: IDA MABEL ZAPPALA (GABRIEL GAUNA APODER) (2) | C53: 72348 | D53: 54400 | E53: 17948 | F53: 9766.98 | G53: 0 | H53: 70801.97 | I53: 21922.02 | J53: 0 | K53: 1199.92 | L53: 0 | N53: 0 | O53: 0.11 | P53: 121639 | Q53: 45078
A54: 0051 1A- L26B | B54: SALVADOR BELLO | C54: -37115.7 | D54: 0 | E54: 0 | F54: 0 | G54: 37115.7 | H54: 70801.97 | I54: 22852.12 | J54: 817.2 | K54: 1250.97 | L54: 0 | N54: 0 | O54: 0.44 | P54: 58607 | Q54: 45078
A55: 0052 1A-L27 | B55: TERESA TANCO | C55: 60298 | D55: 60298 | E55: 0 | F55: 1005 | G55: 0 | H55: 70801.97 | I55: 24398.66 | J55: 873.6 | K55: 1335.81 | L55: 0 | N55: 0 | O55: 0.96 | P55: 98416 | Q55: 45078
A56: 0053 1A- L27B | B56: FEDERICO BUNSOW | C56: 59324 | D56: 59324 | E56: 0 | F56: 989 | G56: 0 | H56: 70801.97 | I56: 24268.88 | J56: 0 | K56: 1328.57 | L56: 0 | N56: 0 | O56: 0.58 | P56: 97389 | Q56: 45078
A57: 0054 1A-L28 | B57: MARIANA VALOTTA (1) | C57: 67667 | D57: 51838.78 | E57: 15828.22 | F57: 2136.81 | G57: 0 | H57: 70801.97 | I57: 29871.06 | J57: 0 | K57: 1043.33 | L57: 3268.65 | N57: -5110.99 | O57: 0.95 | P57: 117840 | Q57: 45078
A58: 0055 1A- L28B | B58: PABLO VERA PINTO (1) | C58: 61503 | D58: 61503 | E58: 0 | F58: 0 | G58: 0 | H58: 70801.97 | I58: 20126.73 | J58: 720 | K58: 1101.62 | L58: 0 | N58: -5171.31 | O58: 0.99 | P58: 87580 | Q58: 45078
A59: 0056 1A-L29 | B59: PABLO VERA PINTO (1) | C59: 85820 | D59: 85820 | E59: 0 | F59: 0 | G59: 0 | H59: 70801.97 | I59: 21046.01 | J59: 0 | K59: 1151.98 | L59: 16587.84 | N59: -5224.4 | O59: 0.6 | P59: 104364 | Q59: 45078
A60: 0057 1A- L29B | B60: GABRIEL GALATI | C60: 268632 | D60: 272708 | E60: 0 | F60: 4076 | G60: 4076 | H60: 70801.97 | I60: 21024.38 | J60: 0 | K60: 1150.94 | L60: 0 | N60: 0 | O60: 0.71 | P60: 92978 | Q60: 45078
...

Sheet MAYO 2023
A3: U.F. Lote | B3: Propietario | C3: Saldo Anterior | D3: Pagos Recibidos | E3: Deuda | F3: Interés | G3: Disponible | H3: Expensa A | I3: Expensa B | J3: Corte de Pasto | K3: Arba en revalúo | L3: Arba form. 903 | M3: Previsión por mora | N3: Otros Gastos | O3: Redon. | P3: TOTAL | Q3: Periodo expensas
A4: 0001 1A-L1 | B4: GRACIELA PRIORI (1) | C4: 48952 | D4: 48952 | E4: 0 | F4: 0 | G4: 0 | H4: 41497.76 | I4: 8087.53 | J4: 772.8 | K4: 1185.09 | L4: 0 | M4: 11472.88 | N4: -5277.29 | O4: 0.23 | P4: 57739 | Q4: 45047
A5: 0002 1A-L1B | B5: GRACIELA PRIORI (1) | C5: 49025 | D5: 49025 | E5: 0 | F5: 0 | G5: 0 | H5: 41497.76 | I5: 8131.96 | J5: 778.8 | K5: 1191.99 | L5: 0 | M5: 11535.92 | N5: -5284.55 | O5: 0.12 | P5: 57852 | Q5: 45047
A6: 0003 1A-L2 | B6: MIGUEL SOSTRES (1) | C6: 49225 | D6: 49225 | E6: 0 | F6: 0 | G6: 0 | H6: 41497.76 | I6: 8257.19 | J6: 790.8 | K6: 1209.92 | L6: 0 | M6: 11713.57 | N6: -5303.32 | O6: 0.08 | P6: 58166 | Q6: 45047
A7: 0004 1A-L2B | B7: TRISTAN BRIANO (1) | C7: 45859 | D7: 45859 | E7: 0 | F7: 0 | G7: 0 | H7: 41497.76 | I7: 6156.54 | J7: 589.2 | K7: 902.61 | L7: 0 | M7: 8733.6 | N7: -4981.27 | O7: 0.56 | P7: 52899 | Q7: 45047
A8: 0005 1A-L2C | B8: TRISTAN BRIANO (1) | C8: 45905 | D8: 45905 | E8: 0 | F8: 0 | G8: 0 | H8: 41497.76 | I8: 6184.82 | J8: 592.8 | K8: 906.41 | L8: 0 | M8: 8773.71 | N8: -4985.51 | O8: 0.01 | P8: 52970 | Q8: 45047
